{"text_format":"1","workbook":"xlsx","n_sheets":1,"sheets":["свод тарифи САО с 01.10.23"],"not_rendered":{"charts":0,"images":0,"macros":0,"external_links":103,"defined_names":2394,"comments":0,"pivot_tables":0},"unopened":[],"bounds":{"document_bytes":16777216,"sheet_cells":100000,"rows_first":2000,"rows_last":500,"rows_between":2000,"halvings":0,"cell_chars":16384,"cell_head_chars":4096},"cells_cut":0,"cells_raw":0,"read":"whole","date_system":"1900"}

{"sheet":"свод тарифи САО с 01.10.23","index":0,"n_rows":46,"n_cols":8,"rows_kept":46,"cut":false,"hidden":false,"merged":[[4,5,4,7],[3,6,3,7],[1,2,1,4],[2,0,2,7],[3,2,3,4],[4,0,6,0],[4,1,6,1],[5,2,5,4],[5,5,5,7],[4,2,4,4]]}
[null,null,null,null,null,"Додаток №1 до Наказу ________________________"]
[null,null,"Діючи"]
[" тарифи на теплову енергію та послуги з постачання теплової енергії окремо для кожного багатоквартирного будинку, обладнаного системою автономного опалення по  КП \"Теплоенерго\""]
[null,null,null,null,null,null,"з 01.10.2023 року"]
["№\nз/п","Адреса, за якою розташована САО\n(вулиця, будинок, корпус)","Тарифи на теплову енергію, грн./Гкал (без ПДВ)",null,null,"Тарифи на послуги з постачання теплової енергії, грн./Гкал (з ПДВ)"]
[null,null,"застосовуються з 01.10.2023 р.",null,null,{"$f":"C6","v":"застосовуються з 01.10.2023 р."}]
[null,null,"населення","бюджетні установи","інші споживачі","населення","бюджетні установи","інші споживачі"]
[1,"ВОКЗАЛЬНА,  2 ",1451.1,null,{"$f":"'[103]свод т-е'!AB54","v":5735.8},{"$f":"C8*1.2","v":1741.32},null,{"$f":"E8*1.2","v":6882.96}]
[2,"ВОЛОДИМИРА ВЕРНАДСЬКОГО , 22 ",1451.1,null,null,1741.32]
[3,"ВОЛОДИМИРА ВЕРНАДСЬКОГО , 24 ",1451.1,null,{"$f":"'[103]свод т-е'!AN54","v":5819.87},1741.32,null,{"$f":"E10*1.2","v":6983.8440000000001}]
[4,"ВОЛОДИМИРА МОНОМАХА ,  8",1451.1,null,{"$f":"'[103]свод т-е'!AR54","v":5911.38},1741.32,null,{"$f":"E11*1.2","v":7093.6559999999999}]
[5,"ВОСКРЕСЕНСЬКА, 1 ",1451.1,null,{"$f":"'[103]свод т-е'!AZ54","v":6122.03},1741.32,null,{"$f":"E12*1.2","v":7346.4359999999997}]
[6,"ГАГАРІНА, 31",1451.1,null,{"$f":"'[103]свод т-е'!BD54","v":5919.67},1741.32,null,{"$f":"E13*1.2","v":7103.6040000000003}]
[7,"ДАРНИЦЬКА, 21",1451.1,null,{"$f":"'[103]свод т-е'!BL54","v":5767.14},1741.32,null,{"$f":"E14*1.2","v":6920.5680000000002}]
[8,"ДМИТРА ЯВОРНИЦЬКОГО, 33",1451.1,null,{"$f":"'[103]свод т-е'!BP54","v":6111.89},1741.32,null,7334.268]
[9,"ДМИТРА ЯВОРНИЦЬКОГО, 72А",1451.1,3766.38,{"$f":"'[103]свод т-е'!BT54","v":7423.05},1741.32,{"$f":"D16*1.2","v":4519.6559999999999},8907.66]
[10,"ДМИТРА ЯВОРНИЦЬКОГ , 74 ",1451.1,null,{"$f":"'[103]свод т-е'!BX54","v":6483.66},1741.32,null,7780.3919999999998]
[11,"ДМИТРА ЯВОРНИЦЬКОГО), 96",1451.1,null,{"$f":"'[103]свод т-е'!CB54","v":6296.63},1741.32,null,7555.9560000000001]
[12,"ДМИТРА ЯВОРНИЦЬКОГО, 100",1451.1,null,{"$f":"'[103]свод т-е'!CJ54","v":5737.5},1741.32,null,6885]
[13,"ДМИТРА ЯВОРНИЦЬКОГО, 105",1451.1,null,{"$f":"'[103]свод т-е'!CN54","v":6282.15},1741.32,null,7538.579999999999]
[14,"ЄВГЕНІЯ КОНОВАЛЬЦЯ, 13 ",1451.1,null,null,1741.32]
[15,"ЗАПОРІЗЬКЕ ШОСЕ, 14",1451.1,null,null,1741.32]
[16,"ЗОРЯНИЙ,  1 Оч-1",1451.1,null,{"$f":"'[103]свод т-е'!DH54","v":5845.5},1741.32,null,{"$f":"E23*1.2","v":7014.5999999999995}]
[17,"ЗОРЯНИЙ,  1 Оч-2",1451.1,null,{"$f":"'[103]свод т-е'!DH54","v":5845.5},1741.32,null,7014.5999999999995]
[18,"ІВАНА АКІНФІЄВА ), 10",1451.1,null,{"$f":"'[103]свод т-е'!DL54","v":6647.59},1741.32,null,7977.1080000000002]
[19,"ІВАНА АКІНФІЄВА, 12Б",1451.1,null,{"$f":"'[103]свод т-е'!DP54","v":7528.92},1741.32,null,9034.7039999999997]
[20,"ІВАНА АКІНФІЄВА, 14",1451.1,null,{"$f":"'[103]свод т-е'!DT54","v":6056.97},1741.32,null,7268.3640000000005]
[21,"ІВАНА АКІНФІЄВА, 17",1451.1,2452.4899999999998,{"$f":"'[103]свод т-е'!DX54","v":6331.12},1741.32,{"$f":"D28*1.2","v":2942.9879999999998},7597.3439999999991]
[22,"МИХАЙЛА ГРУШЕВСЬКОГО, 14",1451.1,null,null,1741.32]
[23,"МУСЛІМА МАГОМАЄВА,  1А",1451.1,null,null,1741.32]
[24,"ОЛЕСЯ ГОНЧАРА,  6 ",1451.1,null,{"$f":"'[103]свод т-е'!FD54","v":6450.58},1741.32,null,{"$f":"E31*1.2","v":7740.6959999999999}]
[25,"ПАСТЕРА, 12",1451.1,null,{"$f":"'[103]свод т-е'!FT54","v":6336.15},1741.32,null,{"$f":"E32*1.2","v":7603.3799999999992}]
[26,"ПАТОРЖИНСЬКОГО, 27 ",1451.1,null,{"$f":"'[103]свод т-е'!FX54","v":8281.57},1741.32,null,{"$f":"E33*1.2","v":9937.884}]
[27,"РОМАНА ШУХЕВИЧА, 28/32 ",1451.1,2872.4,null,1741.32,{"$f":"D34*1.2","v":3446.88}]
[28,"СВЯТОСЛАВА ХОРОБРОГО, 22",1451.1,null,{"$f":"'[103]свод т-е'!GN54","v":6812.9},1741.32,null,{"$f":"E35*1.2","v":8175.48}]
[29,"СЕВАСТОПОЛЬСЬКА,  1",1451.1,null,null,1741.32]
[30,"СЕРГІЯ ЄФРЕМОВА,  1",1451.1,null,{"$f":"'[103]свод т-е'!HD54","v":5951.99},1741.32,null,{"$f":"E37*1.2","v":7142.3879999999999}]
[31,"СЕРГІЯ ЄФРЕМОВА,  4",1451.1,null,null,1741.32]
[32,"СЕРГІЯ ЄФРЕМОВА, 21А ",1451.1,null,{"$f":"'[103]свод т-е'!HL54","v":7233.06},1741.32,null,{"$f":"E39*1.2","v":8679.6720000000005}]
[33,"СТАРОКОЗАЦЬКА, 74А ",1451.1,null,{"$f":"'[103]свод т-е'!IN54","v":6464.84},1741.32,null,{"$f":"E40*1.2","v":7757.808}]
[34,"ТИВЕРСЬКИЙ,  2 ",1451.1,null,null,1741.32]
[35,"ТРОЇЦЬКА), 22А",1451.1,null,{"$f":"'[103]свод т-е'!JD54","v":5744.39},1741.32,null,{"$f":"E42*1.2","v":6893.268}]
[36,"ШОЛОМ АЛЕЙХЕМ, 4А",1451.1,4158.91,null,1741.32,{"$f":"D43*1.2","v":4990.692}]
[]
[]
[null,"Начальник ПЕВ"]